BEGIN:VCALENDAR
VERSION:2.0
PRODID:-//APCA AZ - ECPv6.15.20//NONSGML v1.0//EN
CALSCALE:GREGORIAN
METHOD:PUBLISH
X-WR-CALNAME:APCA AZ
X-ORIGINAL-URL:https://www.apcaaz.org
X-WR-CALDESC:Events for APCA AZ
REFRESH-INTERVAL;VALUE=DURATION:PT1H
X-Robots-Tag:noindex
X-PUBLISHED-TTL:PT1H
BEGIN:VTIMEZONE
TZID:America/Phoenix
BEGIN:STANDARD
TZOFFSETFROM:-0700
TZOFFSETTO:-0700
TZNAME:MST
DTSTART:20230101T000000
END:STANDARD
END:VTIMEZONE
BEGIN:VEVENT
DTSTART;TZID=America/Phoenix:20241108T160000
DTEND;TZID=America/Phoenix:20241108T190000
DTSTAMP:20260424T014455
CREATED:20240820T193116Z
LAST-MODIFIED:20241018T174128Z
UID:10000015-1731081600-1731092400@www.apcaaz.org
SUMMARY:Covered & Thriving: Peace of Mind Party (DACA edition)
DESCRIPTION:In recent years\, we’ve seen Marketplace health insurance allowed for COFA Communities\, then their Medicaid then SNAP was restored. \nNow DACA recipients will have Marketplace for the first time ever. \nCome celebrate with us! \nWe will also have free services available: \n  \n\nHealthcare enrollment (bring necessary documents)\nHealthcare provider consultations\nFlu Vaccination\nBlood pressure screening\nBlood glucose checks\nRSVP IN ADVANCE BY CLICKING HERE\n\n\n\nEnglish bit.ly/MPDACA\nArabic bit.ly/MPDACAARAB\nChinese bit.ly/MPDACACHINESE\nMarshallese bit.ly/MPDACAMARSHALLESE\nSpanish bit.ly/MPDACAESP\nTagalog bit.ly/MPDACATAGALOG\nVietnamese bit.ly/MPDACAVIET\n\n  \n\n\n 
URL:https://www.apcaaz.org/event/covered-thriving-daca/
LOCATION:CO+Hoots Phoenix\, 221 E. Indianola Ave\, Phoenix\, AZ\, 85012\, United States
ATTACH;FMTTYPE=image/png:https://www.apcaaz.org/wp-content/uploads/2024/08/Covered-Thriving-DACA-11.08.24-Facebook-Cover.png
END:VEVENT
END:VCALENDAR